BEGIN:VCALENDAR
VERSION:2.0
METHOD:PUBLISH
BEGIN:VEVENT
UID:WILD_APRICOT_EVENT_1964340_SESSION_1
DTSTART:20151206T000000Z
DTEND:20151206T023000Z
SUMMARY:Annual General Meeting
LOCATION:Scotland Island Community Hall
DESCRIPTION:https://sira.org.au/event-1964340\n\nThe Ordinary Business of the meeting will be:\n\n      * To confirm the Minutes of the previous Annual General Meeting and of any General Meeting held since that meeting\n\n\n        * To receive the Report of the Association during the preceding year\n\n\n        * Updates from Subcommittees and Working Groups\n\n\n               * Church Point\n\n\n            * Roads and Drainage\n\n\n            * Water and Wastewater\n\n\n            * Parks and Reserves\n\n\n            * Waste Management\n\n\n            * Community Vehicle\n\n\n            * Community Hall\n\n            * Community Engagement/Communications\n\n          * To receive and approve the Audited Financial Statement submitted by the Association to members\n\n\n        * To elect Officer Bearers and Ordinary Committee Members of the Association\n\n      Please RSVP (click here) to make registration at the AGM quicker and easier!\n   More information and documents\n\n  The AGM will be followed by:\n  \n\n
DTSTAMP:20260424T140747Z
END:VEVENT
END:VCALENDAR
